BEGIN:VCALENDAR
VERSION:2.0
PRODID:-//ChamberMaster//Event Calendar 2.0//EN
METHOD:PUBLISH
X-PUBLISHED-TTL:P3D
REFRESH-INTERVAL:P3D
CALSCALE:GREGORIAN
BEGIN:VEVENT
DTSTART:20260425T150000Z
DTEND:20260425T210000Z
X-MICROSOFT-CDO-ALLDAYEVENT:FALSE
SUMMARY:Sunny Sprouts Garden Day at Texas Sage
DESCRIPTION:Come spend the day with Texas Sage enjoying all things garden\, local and fun!\n\n\n\nYou don't want to miss it!
X-ALT-DESC;FMTTYPE=text/html:<span style="font-size:14px"><span style="font-family:tahoma">Come spend the day with <strong><a href="https://www.stephenvilletexas.org/list/member/texas-sage-garden-market-4789"><span style="color:#0000CD">Texas Sage</span></a></strong><span style="color:rgb(8\, 8\, 9)">&nbsp\;enjoying all things garden\, local and fun!<br />\n<br />\nYou don&#39\;t want to miss it!</span></span></span><br />\n&nbsp\;
LOCATION:2554 Hwy 6 Dublin\, TX
UID:e.1545.75224
SEQUENCE:3
DTSTAMP:20260424T090201Z
URL:https://www.stephenvilletexas.org/events/details/sprouts-garden-day-at-texas-sage-75224
END:VEVENT

END:VCALENDAR
