BEGIN:VCALENDAR
VERSION:2.0
PRODID:-//ChamberMaster//Event Calendar 2.0//EN
METHOD:PUBLISH
X-PUBLISHED-TTL:P3D
REFRESH-INTERVAL:P3D
CALSCALE:GREGORIAN
BEGIN:VEVENT
DTSTART:20260430T130000Z
DTEND:20260502T180000Z
X-MICROSOFT-CDO-ALLDAYEVENT:FALSE
SUMMARY:Garage Sale for Basic Needs Pantry
DESCRIPTION:Join the Graham Street Church of Christ and Basic Needs for a Garage Sale in our Family Center (directly across from the church building).
X-ALT-DESC;FMTTYPE=text/html:<br />\n<span style="font-family:tahoma\; font-size:14px">Join the&nbsp\;</span><strong><a href="https://www.stephenvilletexas.org/list/member/graham-street-church-of-christ-1331"><span style="color:rgb(0\, 0\, 205)">Graham Street Church of Christ</span></a></strong><span style="font-family:tahoma\; font-size:14px">&nbsp\;and Basic Needs for a Garage Sale in our Family Center (directly across from the church building).&nbsp\;</span>
LOCATION:Graham Street Church of Christ Family Center 375 N. Graham St
UID:e.1545.75222
SEQUENCE:3
DTSTAMP:20260424T120119Z
URL:https://www.stephenvilletexas.org/events/details/garage-sale-for-basic-needs-pantry-75222
END:VEVENT

END:VCALENDAR
