BEGIN:VCALENDAR
VERSION:2.0
PRODID:-//ChamberMaster//Event Calendar 2.0//EN
METHOD:PUBLISH
X-PUBLISHED-TTL:P3D
REFRESH-INTERVAL:P3D
CALSCALE:GREGORIAN
BEGIN:VEVENT
DTSTART:20260430T160000Z
DTEND:20260430T190000Z
X-MICROSOFT-CDO-ALLDAYEVENT:FALSE
SUMMARY:First Responders Drive-by Potato Lunch
DESCRIPTION:Please join us for a Drive-By FREE Pulled Pork Potato Luncheon to honor our First Responders. \n\nNo need to park and get out-simply drive through\, grab a delicious lunch\, and let us say thank you for all you do to keep our community safe.
X-ALT-DESC;FMTTYPE=text/html:<span style="color:black"><span style="font-family:avenir next"><span style="font-size:20.0pt">Please join us for a Drive-By FREE Pulled Pork Potato Luncheon to honor our First Responders. </span></span></span><br />\n<span style="color:black"><span style="font-family:avenir next"><span style="font-size:20.0pt">No need to park and get out-simply drive through\, grab a delicious lunch\, and let us say thank you for all you do to keep our community safe.</span></span></span>
LOCATION:Laurel Glen 2305 W Lingleville Rd.
UID:e.1545.75221
SEQUENCE:3
DTSTAMP:20260424T033046Z
URL:https://www.stephenvilletexas.org/events/details/first-responders-drive-by-potato-lunch-75221
END:VEVENT

END:VCALENDAR
